BEGIN:VCALENDAR
VERSION:2.0
PRODID:-//VMÖ Landesgruppe Salzburg - ECPv4.6.19//NONSGML v1.0//EN
CALSCALE:GREGORIAN
METHOD:PUBLISH
X-WR-CALNAME:VMÖ Landesgruppe Salzburg
X-ORIGINAL-URL:http://www.mineraliensammler.com/web
X-WR-CALDESC:Veranstaltungen für VMÖ Landesgruppe Salzburg
BEGIN:VEVENT
DTSTART;TZID=Europe/Berlin:20170430T100000
DTEND;TZID=Europe/Berlin:20170430T160000
DTSTAMP:20260421T125041
CREATED:20161113T170531Z
LAST-MODIFIED:20170201T081711Z
UID:478-1493546400-1493568000@www.mineraliensammler.com
SUMMARY:Mineralien-INFO 2017
DESCRIPTION:  \nBeginn: 10:00 Uhr \n\nBegrüßung durch den Obmann der  VMÖ/Landesgruppe Salzburg\, Erwin Burgsteiner\nErzabt Dr. Korbinian Birnbacher\, St. Peter\, Salzburg\nEröffnung durch den Bramberger Bürgermeister Hannes Enzinger\nAusstellung der Funde des Sommers 2016; historische Funde;\nAusstellung des Smaragdkreuzes (Pektorale) mit Habachtaler Smaragden aus dem Stift St. Peter (War noch nie in der Öffentlichkeit zu sehen!)\nAusstellung des einzigen steinzeitlichen Bergkristallbeiles (Fund: Helmut und Herbert Schader)\n\n \n  \n
URL:http://www.mineraliensammler.com/web/event/mineralien-info-2017/
LOCATION:Senningerstraße 2\, Bramberg am Wildkogel\, 5733\, Österreich
CATEGORIES:Allgemein,Börsen
END:VEVENT
END:VCALENDAR