BEGIN:VCALENDAR
VERSION:2.0
PRODID:-//VMÖ Landesgruppe Salzburg - ECPv4.6.19//NONSGML v1.0//EN
CALSCALE:GREGORIAN
METHOD:PUBLISH
X-WR-CALNAME:VMÖ Landesgruppe Salzburg
X-ORIGINAL-URL:http://www.mineraliensammler.com/web
X-WR-CALDESC:Veranstaltungen für VMÖ Landesgruppe Salzburg
BEGIN:VEVENT
DTSTART;TZID=Europe/Berlin:20190503T200000
DTEND;TZID=Europe/Berlin:20190504T180000
DTSTAMP:20260421T125051
CREATED:20171121T122325Z
LAST-MODIFIED:20190303T104423Z
UID:508-1556913600-1556992800@www.mineraliensammler.com
SUMMARY:Bramberger Kristalltage 2019
DESCRIPTION:Programm für die Kristalltage und Mineralien-INFO 2019\nKristalltage 2019\nFreitag\, 03. Mai 2019:\n20: 00 Uhr: Ueli Wolf (CH): „Im Banne der Tessiner Klüfte“ \nSamstag\, 04. Mai  2019:\n09:00 Uhr: Dr. Paul Rustemeyer:  „Skelettkristalle und Dendriten“\n10:30 Uhr: Michael Wachtler:  „Goldfund am Monte Rosa“\n14:00 Uhr: Vinzenz Eller: „Mineraliensuche rund um die Alpeiner Scharte\, Tirol“\n15:30 Uhr: Gerhard Fischer: Lustige Steinsucher-Geschichten \n  \nSonntag\, 05. Mai 2019: \n26. Mineralien-INFO\nAlle Veranstaltungen im Gasthof Senningerbräu\, Bramberg. \n  \n\n\n\n10:00 Uhr:\nBegrüßung durch den Obmann der VMÖ/Landesgruppe Salzburg\nLandesrätin Maria Hutter\nEröffnung durch den Bramberger Bürgermeister Hannes Enzinger\nAusstellung der Funde des Sommers 2018 historische Funde\n\n\n\nAlle Veranstaltungen im Gasthof Senningerbräu\, Bramberg. \nZum Download Einladung Kristalltage und Mineralien-INFO 2019 \n
URL:http://www.mineraliensammler.com/web/event/bramberger-kristalltage-2019/
LOCATION:Senningerstraße 2\, Bramberg am Wildkogel\, 5733\, Österreich
CATEGORIES:Allgemein
END:VEVENT
END:VCALENDAR